BEGIN:VCALENDAR
VERSION:2.0
PRODID:-//Alta Gama Sommelier - ECPv4.0.1//NONSGML v1.0//EN
CALSCALE:GREGORIAN
METHOD:PUBLISH
X-WR-CALNAME:Alta Gama Sommelier
X-ORIGINAL-URL:https://altagama.net.br
X-WR-CALDESC:Events for Alta Gama Sommelier
BEGIN:VEVENT
DTSTART;TZID="America/Sao_Paulo":20160325T103000
DTEND;TZID="America/Sao_Paulo":20160325T153000
DTSTAMP:20260422T043420
CREATED:20160215T155422
LAST-MODIFIED:20160301T182738
UID:248-1458901800-1458919800@altagama.net.br
SUMMARY:WINE DAY ENTRE ARAUCÁRIAS
DESCRIPTION:Inscrições pelo email contato@altagama.net.br ou fone (41) 9800 2032 com Wagner Gabardo\n\n
URL:https://altagama.net.br/agenda/wdmar16/
LOCATION:Rua João Greboge da Larva\, Colônia Malhada\, São José dos PInhais\, 83185-000\, Brasil
ORGANIZER;CN="Wagner%20Gabardo":MAILTO:contato@altagama.net.br
END:VEVENT
END:VCALENDAR