BEGIN:VCALENDAR
VERSION:2.0
PRODID:-//Alta Gama Sommelier - ECPv4.0.1//NONSGML v1.0//EN
CALSCALE:GREGORIAN
METHOD:PUBLISH
X-WR-CALNAME:Alta Gama Sommelier
X-ORIGINAL-URL:https://altagama.net.br
X-WR-CALDESC:Events for Alta Gama Sommelier
BEGIN:VEVENT
DTSTART;TZID="America/Sao_Paulo":20160130T103000
DTEND;TZID="America/Sao_Paulo":20160130T153000
DTSTAMP:20260417T143326
CREATED:20151219T125146
LAST-MODIFIED:20151219T125146
UID:195-1454149800-1454167800@altagama.net.br
SUMMARY:WINE DAY ENTRE AS ARAUCÁRIAS
DESCRIPTION:Inscrições por email: contato@altagama.net.br\n\n 
URL:https://altagama.net.br/agenda/wdjan16/
LOCATION:Rua João Greboge da Larva\, Colônia Malhada\, São José dos PInhais\, 83185-000\, Brasil
ORGANIZER;CN="Wagner%20Gabardo":MAILTO:contato@altagama.net.br
END:VEVENT
END:VCALENDAR