BEGIN:VCALENDAR
VERSION:2.0
PRODID:-//Alta Gama Sommelier - ECPv4.0.1//NONSGML v1.0//EN
CALSCALE:GREGORIAN
METHOD:PUBLISH
X-WR-CALNAME:Alta Gama Sommelier
X-ORIGINAL-URL:https://altagama.net.br
X-WR-CALDESC:Events for Alta Gama Sommelier
BEGIN:VEVENT
DTSTART;VALUE=DATE:20231030
DTEND;VALUE=DATE:20231030
DTSTAMP:20260421T102022
CREATED:20190514
LAST-MODIFIED:20230622
UID:893-1698624000-1698710399@altagama.net.br
SUMMARY:URUGUAI\, PERU E BOLÍVIA
DESCRIPTION:Com Jonas Martins
URL:https://altagama.net.br/agenda/uruguai-e-africa/
LOCATION:Rua Nunes Machado\,1345\, Curitiba\, Paraná\, 80220070\, Brasil
ORGANIZER;CN="Fabio%20Marquardt":MAILTO:contato@altagama.net.br
END:VEVENT
END:VCALENDAR