BEGIN:VCALENDAR
VERSION:2.0
PRODID:-//Alta Gama Sommelier - ECPv4.0.1//NONSGML v1.0//EN
CALSCALE:GREGORIAN
METHOD:PUBLISH
X-WR-CALNAME:Alta Gama Sommelier
X-ORIGINAL-URL:https://altagama.net.br
X-WR-CALDESC:Events for Alta Gama Sommelier
BEGIN:VEVENT
DTSTART;TZID="America/Sao_Paulo":20160808T191500
DTEND;TZID="America/Sao_Paulo":20160808T214500
DTSTAMP:20260421T043429
CREATED:20160719T143916
LAST-MODIFIED:20160719T143933
UID:329-1470683700-1470692700@altagama.net.br
SUMMARY:Somm turma abril
DESCRIPTION:Aula sobre vinhos franceses - Rhône e Provence
URL:https://altagama.net.br/agenda/somm8ago/
ORGANIZER;CN="Wagner%20Gabardo":MAILTO:contato@altagama.net.br
END:VEVENT
END:VCALENDAR