BEGIN:VCALENDAR
VERSION:2.0
PRODID:-//Alta Gama Sommelier - ECPv4.0.1//NONSGML v1.0//EN
CALSCALE:GREGORIAN
METHOD:PUBLISH
X-WR-CALNAME:Alta Gama Sommelier
X-ORIGINAL-URL:https://altagama.net.br
X-WR-CALDESC:Events for Alta Gama Sommelier
BEGIN:VEVENT
DTSTART;TZID="America/Sao_Paulo":20160704T191500
DTEND;TZID="America/Sao_Paulo":20160704T214500
DTSTAMP:20260421T175123
CREATED:20160622T142644
LAST-MODIFIED:20160622T153412
UID:307-1467659700-1467668700@altagama.net.br
SUMMARY:Sommelier turma abril
DESCRIPTION:Aula sobre classificação dos vinhos europeus e denominações de origem com Wagner Gabardo
URL:https://altagama.net.br/agenda/somm4jul/
ORGANIZER;CN="Wagner%20Gabardo":MAILTO:contato@altagama.net.br
END:VEVENT
END:VCALENDAR