BEGIN:VCALENDAR
VERSION:2.0
PRODID:-//Alta Gama Sommelier - ECPv4.0.1//NONSGML v1.0//EN
CALSCALE:GREGORIAN
METHOD:PUBLISH
X-WR-CALNAME:Alta Gama Sommelier
X-ORIGINAL-URL:https://altagama.net.br
X-WR-CALDESC:Events for Alta Gama Sommelier
BEGIN:VEVENT
DTSTART;TZID="America/Sao_Paulo":20160830T191500
DTEND;TZID="America/Sao_Paulo":20160830T214500
DTSTAMP:20260420T212333
CREATED:20160721T165117
LAST-MODIFIED:20160721T165117
UID:331-1472584500-1472593500@altagama.net.br
SUMMARY:Somm turma julho
DESCRIPTION:Aula sobre Enologia - Vinificação de Brancos e Tintos
URL:https://altagama.net.br/agenda/somm30ago/
ORGANIZER;CN="Wagner%20Gabardo":MAILTO:contato@altagama.net.br
END:VEVENT
END:VCALENDAR