BEGIN:VCALENDAR
VERSION:2.0
PRODID:-//Alta Gama Sommelier - ECPv4.0.1//NONSGML v1.0//EN
CALSCALE:GREGORIAN
METHOD:PUBLISH
X-WR-CALNAME:Alta Gama Sommelier
X-ORIGINAL-URL:https://altagama.net.br
X-WR-CALDESC:Events for Alta Gama Sommelier
BEGIN:VEVENT
DTSTART;TZID="America/Sao_Paulo":20160627T071500
DTEND;TZID="America/Sao_Paulo":20160627T220000
DTSTAMP:20260417T065446
CREATED:20160609T141756
LAST-MODIFIED:20160609T141756
UID:302-1467011700-1467064800@altagama.net.br
SUMMARY:Curso Sommelier Profissional
DESCRIPTION:Aula Especial sobre Cafés com Georgia Franco de Souza proprietária do Lucca Cafés Especiais.\n\n 
URL:https://altagama.net.br/agenda/somm27jun/
LOCATION:Av. Silva Jardim\, 837 - Rebouças\, Curiitba\, Paraná\, 80230-000\, Brasil
ORGANIZER;CN="Wagner%20Gabardo":MAILTO:contato@altagama.net.br
END:VEVENT
END:VCALENDAR