BEGIN:VCALENDAR
VERSION:2.0
PRODID:-//Alta Gama Sommelier - ECPv4.0.1//NONSGML v1.0//EN
CALSCALE:GREGORIAN
METHOD:PUBLISH
X-WR-CALNAME:Alta Gama Sommelier
X-ORIGINAL-URL:https://altagama.net.br
X-WR-CALDESC:Events for Alta Gama Sommelier
BEGIN:VEVENT
DTSTART;TZID="America/Sao_Paulo":20160823T191500
DTEND;TZID="America/Sao_Paulo":20160823T214500
DTSTAMP:20260420T230640
CREATED:20160719T143514
LAST-MODIFIED:20160719T143713
UID:328-1471979700-1471988700@altagama.net.br
SUMMARY:Somm turma julho
DESCRIPTION:Terroir: Solos e Clima para viticultura
URL:https://altagama.net.br/agenda/somm23ago/
ORGANIZER;CN="Wagner%20Gabardo":MAILTO:contato@altagama.net.br
END:VEVENT
END:VCALENDAR