BEGIN:VCALENDAR
VERSION:2.0
PRODID:-//Alta Gama Sommelier - ECPv4.0.1//NONSGML v1.0//EN
CALSCALE:GREGORIAN
METHOD:PUBLISH
X-WR-CALNAME:Alta Gama Sommelier
X-ORIGINAL-URL:https://altagama.net.br
X-WR-CALDESC:Events for Alta Gama Sommelier
BEGIN:VEVENT
DTSTART;TZID="America/Sao_Paulo":20160620T191500
DTEND;TZID="America/Sao_Paulo":20160620T214500
DTSTAMP:20260421T211853
CREATED:20160607T162146
LAST-MODIFIED:20160607T162146
UID:296-1466450100-1466459100@altagama.net.br
SUMMARY:Curso de Sommelier Profissional
DESCRIPTION:Aula sobre Vinificação de Espumantes com Wagner Gabardo
URL:https://altagama.net.br/agenda/somm20jun/
ORGANIZER;CN="Wagner%20Gabardo":MAILTO:contato@altagama.net.br
END:VEVENT
END:VCALENDAR