BEGIN:VCALENDAR
VERSION:2.0
PRODID:-//Alta Gama Sommelier - ECPv4.0.1//NONSGML v1.0//EN
CALSCALE:GREGORIAN
METHOD:PUBLISH
X-WR-CALNAME:Alta Gama Sommelier
X-ORIGINAL-URL:https://altagama.net.br
X-WR-CALDESC:Events for Alta Gama Sommelier
BEGIN:VEVENT
DTSTART;VALUE=DATE:20240527
DTEND;VALUE=DATE:20240527
DTSTAMP:20260426T041721
CREATED:20160904
LAST-MODIFIED:20240226
UID:370-1716768000-1716854399@altagama.net.br
SUMMARY:AZEITES DE OLIVA
DESCRIPTION:Azeites de oliva e vinagres. Processos de elaboração\, variedades\, classificação. Análise sensorial de azeites e vinagres.
URL:https://altagama.net.br/agenda/somm19set/
LOCATION:Rua Nunes Machado\,1345\, Curitiba\, Paraná\, 80220070\, Brasil
ORGANIZER;CN="Wagner%20Gabardo":MAILTO:contato@altagama.net.br
END:VEVENT
END:VCALENDAR