BEGIN:VCALENDAR
VERSION:2.0
PRODID:-//Alta Gama Sommelier - ECPv4.0.1//NONSGML v1.0//EN
CALSCALE:GREGORIAN
METHOD:PUBLISH
X-WR-CALNAME:Alta Gama Sommelier
X-ORIGINAL-URL:https://altagama.net.br
X-WR-CALDESC:Events for Alta Gama Sommelier
BEGIN:VEVENT
DTSTART;TZID="America/Sao_Paulo":20160718T191500
DTEND;TZID="America/Sao_Paulo":20160718T214500
DTSTAMP:20260417T011025
CREATED:20160622T145708
LAST-MODIFIED:20160718T180958
UID:309-1468869300-1468878300@altagama.net.br
SUMMARY:Sommelier turma abril
DESCRIPTION:Aula sobre vinhos franceses - Sudoeste\, Bergerac e Languedoc
URL:https://altagama.net.br/agenda/somm18jul/
ORGANIZER;CN="Wagner%20Gabardo":MAILTO:contato@altagama.net.br
END:VEVENT
END:VCALENDAR