BEGIN:VCALENDAR
VERSION:2.0
PRODID:-//Alta Gama Sommelier - ECPv4.0.1//NONSGML v1.0//EN
CALSCALE:GREGORIAN
METHOD:PUBLISH
X-WR-CALNAME:Alta Gama Sommelier
X-ORIGINAL-URL:https://altagama.net.br
X-WR-CALDESC:Events for Alta Gama Sommelier
BEGIN:VEVENT
DTSTART;TZID="America/Sao_Paulo":20160816T191500
DTEND;TZID="America/Sao_Paulo":20160816T214500
DTSTAMP:20260421T005612
CREATED:20160719T143220
LAST-MODIFIED:20160719T143220
UID:327-1471374900-1471383900@altagama.net.br
SUMMARY:Somm turma julho
DESCRIPTION:Uvas viníferas e Tipicidade + Análise Sensorial
URL:https://altagama.net.br/agenda/somm16ago/
ORGANIZER;CN="Wagner%20Gabardo":MAILTO:contato@altagama.net.br
END:VEVENT
END:VCALENDAR