BEGIN:VCALENDAR
VERSION:2.0
PRODID:-//Alta Gama Sommelier - ECPv4.0.1//NONSGML v1.0//EN
CALSCALE:GREGORIAN
METHOD:PUBLISH
X-WR-CALNAME:Alta Gama Sommelier
X-ORIGINAL-URL:https://altagama.net.br
X-WR-CALDESC:Events for Alta Gama Sommelier
BEGIN:VEVENT
DTSTART;TZID="America/Sao_Paulo":20161010T190000
DTEND;TZID="America/Sao_Paulo":20161010T220000
DTSTAMP:20260417T024442
CREATED:20161001T141804
LAST-MODIFIED:20161001T141804
UID:377-1476126000-1476136800@altagama.net.br
SUMMARY:VINHOS FORTIFICADOS
DESCRIPTION:Degustação de vinhos licorosos Portugueses e Espanhóis: Porto\, MAdeira\, Jerez\, Moscatel.\n\nCom Wagner Gabardo
URL:https://altagama.net.br/agenda/somm10out/
ORGANIZER;CN="Wagner%20Gabardo":MAILTO:contato@altagama.net.br
END:VEVENT
END:VCALENDAR