BEGIN:VCALENDAR
VERSION:2.0
PRODID:-//Alta Gama Sommelier - ECPv4.0.1//NONSGML v1.0//EN
CALSCALE:GREGORIAN
METHOD:PUBLISH
X-WR-CALNAME:Alta Gama Sommelier
X-ORIGINAL-URL:https://altagama.net.br
X-WR-CALDESC:Events for Alta Gama Sommelier
BEGIN:VEVENT
DTSTART;TZID="America/Sao_Paulo":20160125T193000
DTEND;TZID="America/Sao_Paulo":20160127T220000
DTSTAMP:20260417T102131
CREATED:20151216T195221
LAST-MODIFIED:20151217T141427
UID:135-1453750200-1453932000@altagama.net.br
SUMMARY:O VINHO PELOS SEUS RECIPIENTES - FLN
DESCRIPTION:Inscrições pelo email: contato@altagama.net.br
URL:https://altagama.net.br/agenda/recipientesfln/
CATEGORIES:livres
ORGANIZER;CN="Wagner%20Gabardo":MAILTO:contato@altagama.net.br
END:VEVENT
END:VCALENDAR