BEGIN:VCALENDAR
VERSION:2.0
PRODID:-//Alta Gama Sommelier - ECPv4.0.1//NONSGML v1.0//EN
CALSCALE:GREGORIAN
METHOD:PUBLISH
X-WR-CALNAME:Alta Gama Sommelier
X-ORIGINAL-URL:https://altagama.net.br
X-WR-CALDESC:Events for Alta Gama Sommelier
BEGIN:VEVENT
DTSTART;TZID="America/Sao_Paulo":20161116T190000
DTEND;TZID="America/Sao_Paulo":20161116T220000
DTSTAMP:20260416T094031
CREATED:20161025T173604
LAST-MODIFIED:20161025T175209
UID:397-1479322800-1479333600@altagama.net.br
SUMMARY:O VINHO PELOS SEUS RECIPIENTES
DESCRIPTION:A história do vinho e as ânforas. Métodos ancestrais de vinificação. Degustação de vinhos de ânfora\, naturais\, de fermentação espontânea.
URL:https://altagama.net.br/agenda/recip16nov/
ORGANIZER;CN="Wagner%20Gabardo":MAILTO:contato@altagama.net.br
END:VEVENT
END:VCALENDAR