BEGIN:VCALENDAR
VERSION:2.0
PRODID:-//Alta Gama Sommelier - ECPv4.0.1//NONSGML v1.0//EN
CALSCALE:GREGORIAN
METHOD:PUBLISH
X-WR-CALNAME:Alta Gama Sommelier
X-ORIGINAL-URL:https://altagama.net.br
X-WR-CALDESC:Events for Alta Gama Sommelier
BEGIN:VEVENT
DTSTART;TZID="America/Sao_Paulo":20160216T200000
DTEND;TZID="America/Sao_Paulo":20160218T221500
DTSTAMP:20260417T011044
CREATED:20151216T200544
LAST-MODIFIED:20160202T191825
UID:136-1455652800-1455833700@altagama.net.br
SUMMARY:OS ESTILOS DE VINHOS
DESCRIPTION:Inscrições pelo email: contato@altagama.net.br ou menu Contato\n\n 
URL:https://altagama.net.br/agenda/os-estilos-de-vinhos/
ORGANIZER;CN="Wagner%20Gabardo":MAILTO:contato@altagama.net.br
END:VEVENT
END:VCALENDAR