BEGIN:VCALENDAR
VERSION:2.0
PRODID:-//Alta Gama Sommelier - ECPv4.0.1//NONSGML v1.0//EN
CALSCALE:GREGORIAN
METHOD:PUBLISH
X-WR-CALNAME:Alta Gama Sommelier
X-ORIGINAL-URL:https://altagama.net.br
X-WR-CALDESC:Events for Alta Gama Sommelier
BEGIN:VEVENT
DTSTART;TZID="America/Sao_Paulo":20160329T200000
DTEND;TZID="America/Sao_Paulo":20160329T223000
DTSTAMP:20260422T023744
CREATED:20160202T191719
LAST-MODIFIED:20160229T125917
UID:243-1459281600-1459290600@altagama.net.br
SUMMARY:ORGÂNICO\, NATURAL E BIODINÂMICO
DESCRIPTION:Saiba mais sobre o curso aqui\n\nInscrições pelo email: contato@altagama.net.br ou no menu Contato
URL:https://altagama.net.br/agenda/orgnatbiomar/
ORGANIZER;CN="Wagner%20Gabardo":MAILTO:contato@altagama.net.br
END:VEVENT
END:VCALENDAR