BEGIN:VCALENDAR
VERSION:2.0
PRODID:-//Alta Gama Sommelier - ECPv4.0.1//NONSGML v1.0//EN
CALSCALE:GREGORIAN
METHOD:PUBLISH
X-WR-CALNAME:Alta Gama Sommelier
X-ORIGINAL-URL:https://altagama.net.br
X-WR-CALDESC:Events for Alta Gama Sommelier
BEGIN:VEVENT
DTSTART;TZID="America/Sao_Paulo":20160611T200000
DTEND;TZID="America/Sao_Paulo":20160611T233000
DTSTAMP:20260417T134959
CREATED:20160601T150133
LAST-MODIFIED:20160601T150729
UID:291-1465675200-1465687800@altagama.net.br
SUMMARY:Jantar Especial Dia dos Namorados
DESCRIPTION:ALTA GAMA apresenta o Jantar Especial dia dos namorados na Vinícola Araucária\n\nCardápio de quatro pratos criado pelo Chef Luiz Moura e vinhos selecionados pelo sommelier Wagner Gabardo.\n\nUma noite romântica com intervenções artísticas da poetisa Debora Corn acompanhada pelo violonista Deni Ribas.\n\nGaranta seu lugar nessa experiência inesquecível: (41) 9821 8888\n\n
URL:https://altagama.net.br/agenda/jantar-especial-dia-dos-namorados/
LOCATION:Rua João Greboge da Larva\, Colônia Malhada\, São José dos PInhais\, 83185-000\, Brasil
ORGANIZER;CN="Wagner%20Gabardo":MAILTO:contato@altagama.net.br
END:VEVENT
END:VCALENDAR