BEGIN:VCALENDAR
VERSION:2.0
PRODID:-//Alta Gama Sommelier - ECPv4.0.1//NONSGML v1.0//EN
CALSCALE:GREGORIAN
METHOD:PUBLISH
X-WR-CALNAME:Alta Gama Sommelier
X-ORIGINAL-URL:https://altagama.net.br
X-WR-CALDESC:Events for Alta Gama Sommelier
BEGIN:VEVENT
DTSTART;VALUE=DATE:20230511
DTEND;VALUE=DATE:20230511
DTSTAMP:20260421T134054
CREATED:20230427
LAST-MODIFIED:20230427
UID:1358-1683763200-1683849599@altagama.net.br
SUMMARY:INAUGURAL AVANÇADO
DESCRIPTION:Palestra "Terroir: o sabor da Geografia"\, com Wagner Gabardo
URL:https://altagama.net.br/agenda/inaugural-avancado-2/
LOCATION:Rua Nunes Machado\,1345\, Curitiba\, Paraná\, 80220070\, Brasil
END:VEVENT
END:VCALENDAR