BEGIN:VCALENDAR
VERSION:2.0
PRODID:-//Alta Gama Sommelier - ECPv4.0.1//NONSGML v1.0//EN
CALSCALE:GREGORIAN
METHOD:PUBLISH
X-WR-CALNAME:Alta Gama Sommelier
X-ORIGINAL-URL:https://altagama.net.br
X-WR-CALDESC:Events for Alta Gama Sommelier
BEGIN:VEVENT
DTSTART;VALUE=DATE:20240819
DTEND;VALUE=DATE:20240819
DTSTAMP:20260415T191221
CREATED:20240312
LAST-MODIFIED:20240312
UID:1440-1724025600-1724111999@altagama.net.br
SUMMARY:GRÉCIA E LESTE MEDITERRÂNEO
DESCRIPTION:Grécia\, Eslovenia\, Líbano; degustação
URL:https://altagama.net.br/agenda/grecia-e-leste-mediterraneo-2/
LOCATION:Rua Nunes Machado\,1345\, Curitiba\, Paraná\, 80220070\, Brasil
END:VEVENT
END:VCALENDAR