BEGIN:VCALENDAR
VERSION:2.0
PRODID:-//Alta Gama Sommelier - ECPv4.0.1//NONSGML v1.0//EN
CALSCALE:GREGORIAN
METHOD:PUBLISH
X-WR-CALNAME:Alta Gama Sommelier
X-ORIGINAL-URL:https://altagama.net.br
X-WR-CALDESC:Events for Alta Gama Sommelier
BEGIN:VEVENT
DTSTART;TZID="America/Sao_Paulo":20200218T190000
DTEND;TZID="America/Sao_Paulo":20200218T220000
DTSTAMP:20260421T113026
CREATED:20191203T211657
LAST-MODIFIED:20191203T211858
UID:997-1582052400-1582063200@altagama.net.br
SUMMARY:EUA
DESCRIPTION:Geografia vitivinícola dos Estados Unidos. Degustação. Com Jonas Martins.
URL:https://altagama.net.br/agenda/eua-2/
LOCATION:Rua Nunes Machado\,1345\, Curitiba\, Paraná\, 80220070\, Brasil
END:VEVENT
END:VCALENDAR