BEGIN:VCALENDAR
VERSION:2.0
PRODID:-//Alta Gama Sommelier - ECPv4.0.1//NONSGML v1.0//EN
CALSCALE:GREGORIAN
METHOD:PUBLISH
X-WR-CALNAME:Alta Gama Sommelier
X-ORIGINAL-URL:https://altagama.net.br
X-WR-CALDESC:Events for Alta Gama Sommelier
BEGIN:VEVENT
DTSTART;VALUE=DATE:20241210
DTEND;VALUE=DATE:20241210
DTSTAMP:20260415T032554
CREATED:20171104
LAST-MODIFIED:20240709
UID:554-1733788800-1733875199@altagama.net.br
SUMMARY:ESTILOS DE VINHOS
DESCRIPTION:Estilos de vinhos e harmonização
URL:https://altagama.net.br/agenda/estilos-de-vinhos-ii/
LOCATION:Rua Nunes Machado\,1345\, Curitiba\, Paraná\, 80220070\, Brasil
END:VEVENT
END:VCALENDAR