BEGIN:VCALENDAR
VERSION:2.0
PRODID:-//Alta Gama Sommelier - ECPv4.0.1//NONSGML v1.0//EN
CALSCALE:GREGORIAN
METHOD:PUBLISH
X-WR-CALNAME:Alta Gama Sommelier
X-ORIGINAL-URL:https://altagama.net.br
X-WR-CALDESC:Events for Alta Gama Sommelier
BEGIN:VEVENT
DTSTART;VALUE=DATE:20240715
DTEND;VALUE=DATE:20240715
DTSTAMP:20260415T171924
CREATED:20170116
LAST-MODIFIED:20240312
UID:429-1721001600-1721087999@altagama.net.br
SUMMARY:ESPANHA I
DESCRIPTION:Metade norte da Espanha; degustação
URL:https://altagama.net.br/agenda/espanha/
LOCATION:Rua Nunes Machado\,1345\, Curitiba\, Paraná\, 80220070\, Brasil
ORGANIZER;CN="Wagner%20Gabardo":MAILTO:contato@altagama.net.br
END:VEVENT
END:VCALENDAR