BEGIN:VCALENDAR
VERSION:2.0
PRODID:-//Alta Gama Sommelier - ECPv4.0.1//NONSGML v1.0//EN
CALSCALE:GREGORIAN
METHOD:PUBLISH
X-WR-CALNAME:Alta Gama Sommelier
X-ORIGINAL-URL:https://altagama.net.br
X-WR-CALDESC:Events for Alta Gama Sommelier
BEGIN:VEVENT
DTSTART;VALUE=DATE:20231026
DTEND;VALUE=DATE:20231026
DTSTAMP:20260414T132459
CREATED:20230518
LAST-MODIFIED:20230518
UID:1373-1698278400-1698364799@altagama.net.br
SUMMARY:DEFEITOS DO VINHO
DESCRIPTION:
URL:https://altagama.net.br/agenda/defeitos-do-vinho-4/
END:VEVENT
END:VCALENDAR