BEGIN:VCALENDAR
VERSION:2.0
PRODID:-//Alta Gama Sommelier - ECPv4.0.1//NONSGML v1.0//EN
CALSCALE:GREGORIAN
METHOD:PUBLISH
X-WR-CALNAME:Alta Gama Sommelier
X-ORIGINAL-URL:https://altagama.net.br
X-WR-CALDESC:Events for Alta Gama Sommelier
BEGIN:VEVENT
DTSTART;VALUE=DATE:20241209
DTEND;VALUE=DATE:20241209
DTSTAMP:20260416T154034
CREATED:20180719
LAST-MODIFIED:20240709
UID:706-1733702400-1733788799@altagama.net.br
SUMMARY:CERVEJAS turma abril
DESCRIPTION:Escolas cervejeiras\, estilos de cerveja\, serviço e  degustação.
URL:https://altagama.net.br/agenda/cervejas/
LOCATION:Rua Nunes Machado\,1345\, Curitiba\, Paraná\, 80220070\, Brasil
END:VEVENT
END:VCALENDAR