BEGIN:VCALENDAR
VERSION:2.0
PRODID:-//Alta Gama Sommelier - ECPv4.0.1//NONSGML v1.0//EN
CALSCALE:GREGORIAN
METHOD:PUBLISH
X-WR-CALNAME:Alta Gama Sommelier
X-ORIGINAL-URL:https://altagama.net.br
X-WR-CALDESC:Events for Alta Gama Sommelier
BEGIN:VEVENT
DTSTART;TZID="America/Sao_Paulo":20231010T190000
DTEND;TZID="America/Sao_Paulo":20231010T220000
DTSTAMP:20260415T214409
CREATED:20231002T161823
LAST-MODIFIED:20231002T162742
UID:1398-1696964400-1696975200@altagama.net.br
SUMMARY:Caravana de Vinhos do Tejo
DESCRIPTION:Masterclass e degustação de vinhos da região portuguesa do Tejo.\n\nReservas por whastapp (41) 998 002 032\n\n 
URL:https://altagama.net.br/agenda/caravana-de-vinhos-do-tejo/
LOCATION:Rua Nunes Machado\,1345\, Curitiba\, Paraná\, 80220070\, Brasil
ATTACH;FMTTYPE=image/jpeg:https://altagama.net.br/wp-content/uploads/2023/10/Tejo.jpeg
END:VEVENT
END:VCALENDAR