BEGIN:VCALENDAR
VERSION:2.0
PRODID:-//Alta Gama Sommelier - ECPv4.0.1//NONSGML v1.0//EN
CALSCALE:GREGORIAN
METHOD:PUBLISH
X-WR-CALNAME:Alta Gama Sommelier
X-ORIGINAL-URL:https://altagama.net.br
X-WR-CALDESC:Events for Alta Gama Sommelier
BEGIN:VEVENT
DTSTART;TZID="America/Sao_Paulo":20160831T191500
DTEND;TZID="America/Sao_Paulo":20160901T214500
DTSTAMP:20260415T092752
CREATED:20160802T192133
LAST-MODIFIED:20160809T143715
UID:337-1472670900-1472766300@altagama.net.br
SUMMARY:ORGÂNICO\, BIODINÂMICO E NATURAL
DESCRIPTION:Qual a diferença entre um vinho orgânico\, biodinâmico e um natural? Que práticas são adotadas no cultivo e na vinificação que norteiam essas filosofias de trabalho? Os vinhos produzidos são diferentes? Melhores que os convencionais?\n\nBuscando responder estas questões a ALTA GAMA lança um curso\, com dois dias de duração\, onde serão aprofundados estes temas e degustados vinhos que adotam estas práticas puristas e conectadas à natureza.\n\nCurso de 2 noites com degustação incluída.\n\nParticipe! Baixe aqui a ficha de inscrição e envie para contato@altagama.net.br\n\n
URL:https://altagama.net.br/agenda/bio31ago/
ORGANIZER;CN="Wagner%20Gabardo":MAILTO:contato@altagama.net.br
END:VEVENT
END:VCALENDAR