BEGIN:VCALENDAR
VERSION:2.0
PRODID:-//Alta Gama Sommelier - ECPv4.0.1//NONSGML v1.0//EN
CALSCALE:GREGORIAN
METHOD:PUBLISH
X-WR-CALNAME:Alta Gama Sommelier
X-ORIGINAL-URL:https://altagama.net.br
X-WR-CALDESC:Events for Alta Gama Sommelier
BEGIN:VEVENT
DTSTART;TZID="America/Sao_Paulo":20200302T190000
DTEND;TZID="America/Sao_Paulo":20200302T220000
DTSTAMP:20260415T102444
CREATED:20191203T213831
LAST-MODIFIED:20191203T213931
UID:1001-1583175600-1583186400@altagama.net.br
SUMMARY:AULA INAUGURAL SOMM
DESCRIPTION:Início nova turma de sommelier 2020.\n\nHistória do Vinho.  Degustação. Com Wagner Gabardo.
URL:https://altagama.net.br/agenda/aula-inaugural-somm/
LOCATION:Rua Nunes Machado\,1345\, Curitiba\, Paraná\, 80220070\, Brasil
END:VEVENT
END:VCALENDAR