BEGIN:VCALENDAR
VERSION:2.0
PRODID:-//Alta Gama Sommelier - ECPv4.0.1//NONSGML v1.0//EN
CALSCALE:GREGORIAN
METHOD:PUBLISH
X-WR-CALNAME:Alta Gama Sommelier
X-ORIGINAL-URL:https://altagama.net.br
X-WR-CALDESC:Events for Alta Gama Sommelier
BEGIN:VEVENT
DTSTART;VALUE=DATE:20250310
DTEND;VALUE=DATE:20250310
DTSTAMP:20260415T043813
CREATED:20250127
LAST-MODIFIED:20250127
UID:1486-1741564800-1741651199@altagama.net.br
SUMMARY:AULA INAUGURAL
DESCRIPTION:
URL:https://altagama.net.br/agenda/aula-inaugural-2/
LOCATION:Rua Nunes Machado\,1345\, Curitiba\, Paraná\, 80220070\, Brasil
END:VEVENT
END:VCALENDAR