BEGIN:VCALENDAR
VERSION:2.0
PRODID:-//Alta Gama Sommelier - ECPv4.0.1//NONSGML v1.0//EN
CALSCALE:GREGORIAN
METHOD:PUBLISH
X-WR-CALNAME:Alta Gama Sommelier
X-ORIGINAL-URL:https://altagama.net.br
X-WR-CALDESC:Events for Alta Gama Sommelier
BEGIN:VEVENT
DTSTART;TZID="America/Sao_Paulo":20200317T190000
DTEND;TZID="America/Sao_Paulo":20200317T190000
DTSTAMP:20260421T053448
CREATED:20191205T213418
LAST-MODIFIED:20191205T213625
UID:1004-1584471600-1584471600@altagama.net.br
SUMMARY:ARGENTINA
DESCRIPTION:Geografia vitivinícola da Argentina. Degustação. Com Wagner Gabardo.
URL:https://altagama.net.br/agenda/argentina-6/
LOCATION:Rua Nunes Machado\,1345\, Curitiba\, Paraná\, 80220070\, Brasil
END:VEVENT
END:VCALENDAR