BEGIN:VCALENDAR
VERSION:2.0
PRODID:-//Alta Gama Sommelier - ECPv4.0.1//NONSGML v1.0//EN
CALSCALE:GREGORIAN
METHOD:PUBLISH
X-WR-CALNAME:Alta Gama Sommelier
X-ORIGINAL-URL:https://altagama.net.br
X-WR-CALDESC:Events for Alta Gama Sommelier
BEGIN:VEVENT
DTSTART;VALUE=DATE:20230320
DTEND;VALUE=DATE:20230320
DTSTAMP:20260417T032226
CREATED:20191220
LAST-MODIFIED:20230131
UID:1008-1679270400-1679356799@altagama.net.br
SUMMARY:ANÁLISE SENSORIAL I
DESCRIPTION:Técnica de degustação de vinhos brancos. Com Wagner Gabardo.
URL:https://altagama.net.br/agenda/analise-sensorial-i/
LOCATION:Rua Nunes Machado\,1345\, Curitiba\, Paraná\, 80220070\, Brasil
END:VEVENT
END:VCALENDAR