BEGIN:VCALENDAR
VERSION:2.0
PRODID:-//Alta Gama Sommelier - ECPv4.0.1//NONSGML v1.0//EN
CALSCALE:GREGORIAN
METHOD:PUBLISH
X-WR-CALNAME:Alta Gama Sommelier
X-ORIGINAL-URL:https://altagama.net.br
X-WR-CALDESC:Events for Alta Gama Sommelier
BEGIN:VEVENT
DTSTART;TZID="America/Sao_Paulo":20200323T150000
DTEND;TZID="America/Sao_Paulo":20200323T174500
DTSTAMP:20260417T135727
CREATED:20200316T125934
LAST-MODIFIED:20200316T172952
UID:1069-1584975600-1584985500@altagama.net.br
SUMMARY:VITICULTURA I
DESCRIPTION:Terroir\, solo\, clima e vinho. Degustação. Com Francelize Chiarotti.
URL:https://altagama.net.br/agenda/analise-sensorial-i-2/
LOCATION:Rua Nunes Machado\,1345\, Curitiba\, Paraná\, 80220070\, Brasil
END:VEVENT
END:VCALENDAR