BEGIN:VCALENDAR
VERSION:2.0
PRODID:-//Alta Gama Sommelier - ECPv4.0.1//NONSGML v1.0//EN
CALSCALE:GREGORIAN
METHOD:PUBLISH
X-WR-CALNAME:Alta Gama Sommelier
X-ORIGINAL-URL:https://altagama.net.br
X-WR-CALDESC:Events for Alta Gama Sommelier
BEGIN:VEVENT
DTSTART;TZID="America/Sao_Paulo":20200303T190000
DTEND;TZID="America/Sao_Paulo":20200303T220000
DTSTAMP:20260416T013332
CREATED:20191205T213038
LAST-MODIFIED:20191205T213038
UID:1002-1583262000-1583272800@altagama.net.br
SUMMARY:AFRICA E URUGUAI
DESCRIPTION:Geografia vitivinícola da África e do Uruguai. Degustação. Com Jonas Martins.
URL:https://altagama.net.br/agenda/africa-e-uruguai/
LOCATION:Rua Nunes Machado\,1345\, Curitiba\, Paraná\, 80220070\, Brasil
END:VEVENT
END:VCALENDAR