BEGIN:VCALENDAR
VERSION:2.0
PRODID:-//Alta Gama Sommelier - ECPv4.0.1//NONSGML v1.0//EN
CALSCALE:GREGORIAN
METHOD:PUBLISH
X-WR-CALNAME:Alta Gama Sommelier
X-ORIGINAL-URL:https://altagama.net.br
X-WR-CALDESC:Events for Alta Gama Sommelier
BEGIN:VEVENT
DTSTART;VALUE=DATE:20240716
DTEND;VALUE=DATE:20240716
DTSTAMP:20260415T205023
CREATED:20180623
LAST-MODIFIED:20240312
UID:675-1721088000-1721174399@altagama.net.br
SUMMARY:PORTUGAL I
DESCRIPTION:Regiões\, uvas e estilos de vinhos de Portugal. Degustação incluída.
URL:https://altagama.net.br/agenda/080618/
LOCATION:Rua Nunes Machado\,1345\, Curitiba\, Paraná\, 80220070\, Brasil
END:VEVENT
END:VCALENDAR